BEGIN:VCALENDAR
VERSION:2.0
PRODID:-//French Center Of Design - ECPv6.2.3//NONSGML v1.0//EN
CALSCALE:GREGORIAN
METHOD:PUBLISH
X-WR-CALNAME:French Center Of Design
X-ORIGINAL-URL:https://www.frenchcenterofdesign.com
X-WR-CALDESC:Events for French Center Of Design
REFRESH-INTERVAL;VALUE=DURATION:PT1H
X-Robots-Tag:noindex
X-PUBLISHED-TTL:PT1H
BEGIN:VTIMEZONE
TZID:Europe/Paris
BEGIN:DAYLIGHT
TZOFFSETFROM:+0100
TZOFFSETTO:+0200
TZNAME:CEST
DTSTART:20120325T010000
END:DAYLIGHT
BEGIN:STANDARD
TZOFFSETFROM:+0200
TZOFFSETTO:+0100
TZNAME:CET
DTSTART:20121028T010000
END:STANDARD
BEGIN:DAYLIGHT
TZOFFSETFROM:+0100
TZOFFSETTO:+0200
TZNAME:CEST
DTSTART:20130331T010000
END:DAYLIGHT
BEGIN:STANDARD
TZOFFSETFROM:+0200
TZOFFSETTO:+0100
TZNAME:CET
DTSTART:20131027T010000
END:STANDARD
BEGIN:DAYLIGHT
TZOFFSETFROM:+0100
TZOFFSETTO:+0200
TZNAME:CEST
DTSTART:20140330T010000
END:DAYLIGHT
BEGIN:STANDARD
TZOFFSETFROM:+0200
TZOFFSETTO:+0100
TZNAME:CET
DTSTART:20141026T010000
END:STANDARD
BEGIN:DAYLIGHT
TZOFFSETFROM:+0100
TZOFFSETTO:+0200
TZNAME:CEST
DTSTART:20150329T010000
END:DAYLIGHT
BEGIN:STANDARD
TZOFFSETFROM:+0200
TZOFFSETTO:+0100
TZNAME:CET
DTSTART:20151025T010000
END:STANDARD
BEGIN:DAYLIGHT
TZOFFSETFROM:+0100
TZOFFSETTO:+0200
TZNAME:CEST
DTSTART:20160327T010000
END:DAYLIGHT
BEGIN:STANDARD
TZOFFSETFROM:+0200
TZOFFSETTO:+0100
TZNAME:CET
DTSTART:20161030T010000
END:STANDARD
BEGIN:DAYLIGHT
TZOFFSETFROM:+0100
TZOFFSETTO:+0200
TZNAME:CEST
DTSTART:20170326T010000
END:DAYLIGHT
BEGIN:STANDARD
TZOFFSETFROM:+0200
TZOFFSETTO:+0100
TZNAME:CET
DTSTART:20171029T010000
END:STANDARD
BEGIN:DAYLIGHT
TZOFFSETFROM:+0100
TZOFFSETTO:+0200
TZNAME:CEST
DTSTART:20180325T010000
END:DAYLIGHT
BEGIN:STANDARD
TZOFFSETFROM:+0200
TZOFFSETTO:+0100
TZNAME:CET
DTSTART:20181028T010000
END:STANDARD
BEGIN:DAYLIGHT
TZOFFSETFROM:+0100
TZOFFSETTO:+0200
TZNAME:CEST
DTSTART:20190331T010000
END:DAYLIGHT
BEGIN:STANDARD
TZOFFSETFROM:+0200
TZOFFSETTO:+0100
TZNAME:CET
DTSTART:20191027T010000
END:STANDARD
BEGIN:DAYLIGHT
TZOFFSETFROM:+0100
TZOFFSETTO:+0200
TZNAME:CEST
DTSTART:20200329T010000
END:DAYLIGHT
BEGIN:STANDARD
TZOFFSETFROM:+0200
TZOFFSETTO:+0100
TZNAME:CET
DTSTART:20201025T010000
END:STANDARD
BEGIN:DAYLIGHT
TZOFFSETFROM:+0100
TZOFFSETTO:+0200
TZNAME:CEST
DTSTART:20210328T010000
END:DAYLIGHT
BEGIN:STANDARD
TZOFFSETFROM:+0200
TZOFFSETTO:+0100
TZNAME:CET
DTSTART:20211031T010000
END:STANDARD
BEGIN:DAYLIGHT
TZOFFSETFROM:+0100
TZOFFSETTO:+0200
TZNAME:CEST
DTSTART:20220327T010000
END:DAYLIGHT
BEGIN:STANDARD
TZOFFSETFROM:+0200
TZOFFSETTO:+0100
TZNAME:CET
DTSTART:20221030T010000
END:STANDARD
BEGIN:DAYLIGHT
TZOFFSETFROM:+0100
TZOFFSETTO:+0200
TZNAME:CEST
DTSTART:20230326T010000
END:DAYLIGHT
BEGIN:STANDARD
TZOFFSETFROM:+0200
TZOFFSETTO:+0100
TZNAME:CET
DTSTART:20231029T010000
END:STANDARD
END:VTIMEZONE
BEGIN:VEVENT
DTSTART;VALUE=DATE:20230606
DTEND;VALUE=DATE:20230609
DTSTAMP:20260420T151223
CREATED:20230307T135042Z
LAST-MODIFIED:20230506T185334Z
UID:14765-1686009600-1686268799@www.frenchcenterofdesign.com
SUMMARY:FINE CRAFTS IN PARIS
DESCRIPTION:Visit with us Révélations! The Biennial of Decorative Arts brings together the fine crafts aficionados. It takes place in Grand Palais Ephémère just in front of the Eiffel Tower. More than 300 French artists and workshops will show their expertise: unique materials\, handmade furniture\, works of art… For its 6th edition Révélations also invites Quebec to celebrate the craft creation of this part of the world. \nAt the same time\, we will visit secret places in Paris\, the most interesting art galleries\, trendy restaurants\, meet artists and designers. \nWe will also spend one day out of Paris dedicated to the modernist architectural heritage: \n\nVilla Savoye – iconic building\, manifesto by Le Corbusier in Poissy near Paris\nMaison Louis Carré – a residential building designed for art collectors by Finnish modernist architect Alvar Aalto\n\nTour language: French\, English and Russian. \nREGISTER
URL:https://www.frenchcenterofdesign.com/event/french-fine-crafts/
LOCATION:Paris
CATEGORIES:Event,Travel,Visit
ATTACH;FMTTYPE=image/jpeg:https://www.frenchcenterofdesign.com/wp-content/uploads/2022/03/FrenchCenterOfDesign-ARTISAN-CelineAlexandre4.jpg
END:VEVENT
BEGIN:VEVENT
DTSTART;VALUE=DATE:20230406
DTEND;VALUE=DATE:20230409
DTSTAMP:20260420T151223
CREATED:20230216T142452Z
LAST-MODIFIED:20230422T114633Z
UID:14758-1680739200-1680998399@www.frenchcenterofdesign.com
SUMMARY:ANTIQUES WEEKEND IN PROVENCE
DESCRIPTION:Visit with us l’Isle-sur-la-Sorgue! \nThis typical village of Provence\, riddled with canals\, has become an iconic place for all lovers of antiques\, decor and books. \nThe International Antiques and Brocante Fair of l’Isle-sur-la-Sorgue transforms the city into a huge open-air art market. \nMore important than the one in Saint-Ouen\, the fair of Isle-sur-la-Sorgue is the 3rd European place of antiques and secondhand trade: 200 exhibitors from France and Europe and 250 stores of antiques\, art and decoration of the city expose their most beautiful objects and treasures. \nHere you can find your “happiness” and the final chord for your projects. \nWe’ll visit local craftsmen’s workshops as well. \nIf needed\, we’ll take care of all the logistics linked with your purchases (pick up\, delivery). \nKids friendly tour (we charge half price for family members staying in the same room). \nTour language: French\, English and Russian.
URL:https://www.frenchcenterofdesign.com/event/antiques-we/
LOCATION:Isle-sur-la-Sorgue
CATEGORIES:Discover,Travel,Visit
ATTACH;FMTTYPE=image/jpeg:https://www.frenchcenterofdesign.com/wp-content/uploads/2023/02/FCD-Provence-.jpg
END:VEVENT
BEGIN:VEVENT
DTSTART;VALUE=DATE:20220908
DTEND;VALUE=DATE:20220911
DTSTAMP:20260420T151223
CREATED:20211220T181238Z
LAST-MODIFIED:20220726T162340Z
UID:12503-1662595200-1662854399@www.frenchcenterofdesign.com
SUMMARY:PARIS DESIGN 2022
DESCRIPTION:The year 2022 promises to be exciting in Paris! \nSuperb exhibitions in Parisian museums\, new galleries and trendy restaurants\, renovated cultural venues …. \nWe will open the doors to the most secret places for you\, visit exceptional workshops together and introduce you to the crème de la crème of French design. \nParis is animated by major design events – Paris Design week\, Maison & Objet… we will not fail to attend the most festive cocktails and taste the most creative gastronomy of the capital. \nTour language: French\, English and Russian.
URL:https://www.frenchcenterofdesign.com/event/design-tour-2022/
LOCATION:Paris
CATEGORIES:Travel
ATTACH;FMTTYPE=image/jpeg:https://www.frenchcenterofdesign.com/wp-content/uploads/2021/12/FrenchCenterOfDesign-Events-ParisS21_42.jpg
END:VEVENT
BEGIN:VEVENT
DTSTART;VALUE=DATE:20220404
DTEND;VALUE=DATE:20220407
DTSTAMP:20260420T151223
CREATED:20220218T151158Z
LAST-MODIFIED:20220218T151802Z
UID:13040-1649030400-1649289599@www.frenchcenterofdesign.com
SUMMARY:ART & COLLECTIBLE 2022
DESCRIPTION:Discover the best of contemporary art and collectible design. \nWe will visit the main event – PAD PARIS and meet the most interesting gallery owners there. We will also take part in the VIP opening of the ART PARIS contemporary art fair. \nWe will visit secret places in the capital\, meet artists and designers\, and attend exclusive events such as a gala dinner at the Center Pompidou. The money raised at the dinner will go to replenish the museum’s collection. \nTour language: French\, English and Russian. \nREGISTER
URL:https://www.frenchcenterofdesign.com/event/art-paris-tour-2021-duplicate-1/
LOCATION:Paris
CATEGORIES:Dine,Discover,Travel
ATTACH;FMTTYPE=image/jpeg:https://www.frenchcenterofdesign.com/wp-content/uploads/2022/02/FrenchCenterOfDesign-ARTISAN-Pouenat6.jpg
END:VEVENT
BEGIN:VEVENT
DTSTART;VALUE=DATE:20210911
DTEND;VALUE=DATE:20210914
DTSTAMP:20260420T151223
CREATED:20210705T152632Z
LAST-MODIFIED:20220218T144938Z
UID:10128-1631318400-1631577599@www.frenchcenterofdesign.com
SUMMARY:DESIGN & ART
DESCRIPTION:Many new design galleries\, trendy restaurants\, art venues have opened over the past year and major cultural places have been renovated in Paris. \nAs each September\, Paris was animated by Art and Design events and fairs. \nFor our guests\, we opened the doors to the most secret galleries\, workshops and showrooms. They met talented French artists\, craftsmen and designers. \nWe also attended several VIP openings including the Art Paris fair and a very special international cocktail.
URL:https://www.frenchcenterofdesign.com/event/design-tour-2021/
LOCATION:Paris
CATEGORIES:Travel
ATTACH;FMTTYPE=image/jpeg:https://www.frenchcenterofdesign.com/wp-content/uploads/2020/06/FrenchCenterOfDesign-EVENTS-DesignTourS21-10.jpeg
END:VEVENT
BEGIN:VEVENT
DTSTART;VALUE=DATE:20180430
DTEND;VALUE=DATE:20180502
DTSTAMP:20260420T151224
CREATED:20200303T163735Z
LAST-MODIFIED:20200620T194239Z
UID:1867-1525046400-1525219199@www.frenchcenterofdesign.com
SUMMARY:ANTIQUES IN PROVENCE
DESCRIPTION:In early April\, the French Design Center shows its own view of France to interior design professionals. A weekend in Provence\, searching for exquisite French antiques that can enrich and give individuality to the most demanding design projects.
URL:https://www.frenchcenterofdesign.com/event/antiques-provence/
LOCATION:Isle-sur-la-Sorgue
CATEGORIES:Travel
ATTACH;FMTTYPE=image/jpeg:https://www.frenchcenterofdesign.com/wp-content/uploads/2020/03/frenchcenterofdesign-events-antiquesprovence-1.jpg
END:VEVENT
BEGIN:VEVENT
DTSTART;VALUE=DATE:20150428
DTEND;VALUE=DATE:20150429
DTSTAMP:20260420T151224
CREATED:20200304T170929Z
LAST-MODIFIED:20200620T193829Z
UID:2166-1430179200-1430265599@www.frenchcenterofdesign.com
SUMMARY:PETIT TRIANON
DESCRIPTION:Private visit (outside public hours) of the Trianon estate with an expert on historic monuments and a landscape architect. Established very close to the Chateau de Versailles by Louis XIV then invested and embellished by Marie Antoinette\, this place was reserved for the personal use of the sovereigns and is marked by their love of architecture and gardens. We can also visit the Queen’s Hamlet\, a real small village\, which is under restoration: it will not open its doors to the public until 2018.
URL:https://www.frenchcenterofdesign.com/event/petit-trianon/
CATEGORIES:Travel
ATTACH;FMTTYPE=image/jpeg:https://www.frenchcenterofdesign.com/wp-content/uploads/2020/03/frenchcenterofdesign-events-petittrianon-1.jpg
END:VEVENT
BEGIN:VEVENT
DTSTART;VALUE=DATE:20130910
DTEND;VALUE=DATE:20130913
DTSTAMP:20260420T151224
CREATED:20200305T112453Z
LAST-MODIFIED:20200620T231550Z
UID:2306-1378771200-1379030399@www.frenchcenterofdesign.com
SUMMARY:WORKSHOPS IN PAYS DE LA LOIRE
DESCRIPTION:This year\, following the autumn session of Maison&Objet\, the French Center of Design – in collaboration with the Pays de la Loire Chamber of Commerce and Industry – invites designers and architects to visit the workshops of the region. Within two days nine workshops will be visited.
URL:https://www.frenchcenterofdesign.com/event/workshop-pays-de-la-loire/
LOCATION:Pays de la Loire
CATEGORIES:Travel
ATTACH;FMTTYPE=image/jpeg:https://www.frenchcenterofdesign.com/wp-content/uploads/2020/03/frenchcenterofdesign-events-paysdelaloire-1.jpg
END:VEVENT
BEGIN:VEVENT
DTSTART;VALUE=DATE:20120904
DTEND;VALUE=DATE:20120907
DTSTAMP:20260420T151224
CREATED:20200305T121705Z
LAST-MODIFIED:20200620T231540Z
UID:2343-1346716800-1346975999@www.frenchcenterofdesign.com
SUMMARY:WORKSHOPS IN BRITTANY
DESCRIPTION:Brittany is a unique region in France\, combining a high level of economic development with a regional specificity\, nature\, culture of its own which make its fame. Brittany is characterised by the existence of numerous small workshops with a traditional know-how in decorative arts. The French Center of Design organises an exceptional tour to introduce Russian interior designers to local creativity. 8 workshops were selected: blown glass\, art and contemporary furniture\, fabrics\, natural stone\, decorative painting. The stay is also marked by moments of relaxation in a superb setting with a memorable night on the island of Bréhat and a majestic dinner in Saint Malo.
URL:https://www.frenchcenterofdesign.com/event/workshop-in-brittany/
LOCATION:Bretagne
CATEGORIES:Travel
ATTACH;FMTTYPE=image/jpeg:https://www.frenchcenterofdesign.com/wp-content/uploads/2020/03/frenchcenterofdesign-events-bretagne.jpg
END:VEVENT
END:VCALENDAR